BEGIN:VCALENDAR
VERSION:2.0
PRODID:-//Your Thin Film Source - ECPv6.0.1.1//NONSGML v1.0//EN
CALSCALE:GREGORIAN
METHOD:PUBLISH
X-WR-CALNAME:Your Thin Film Source
X-ORIGINAL-URL:https://www.yourthinfilmsource.com
X-WR-CALDESC:Events for Your Thin Film Source
REFRESH-INTERVAL;VALUE=DURATION:PT1H
X-Robots-Tag:noindex
X-PUBLISHED-TTL:PT1H
BEGIN:VTIMEZONE
TZID:America/New_York
BEGIN:DAYLIGHT
TZOFFSETFROM:-0500
TZOFFSETTO:-0400
TZNAME:EDT
DTSTART:20240310T070000
END:DAYLIGHT
BEGIN:STANDARD
TZOFFSETFROM:-0400
TZOFFSETTO:-0500
TZNAME:EST
DTSTART:20241103T060000
END:STANDARD
END:VTIMEZONE
BEGIN:VEVENT
DTSTART;VALUE=DATE:20240127
DTEND;VALUE=DATE:20240202
DTSTAMP:20260421T011958
CREATED:20230727T154141Z
LAST-MODIFIED:20230727T154141Z
UID:4008-1706313600-1706831999@www.yourthinfilmsource.com
SUMMARY:SPIE – Photonics West
DESCRIPTION:Jan 27 to Feb 1\, 2024\n \nSan Francisco\, CA USA\nBooth TBD \n 
URL:https://www.yourthinfilmsource.com/event/spie-photonics-west/
END:VEVENT
END:VCALENDAR